BEGIN:VCALENDAR
VERSION:2.0
PRODID:-//Kettering Local Pulse - ECPv6.1.2.2//NONSGML v1.0//EN
CALSCALE:GREGORIAN
METHOD:PUBLISH
X-WR-CALNAME:Kettering Local Pulse
X-ORIGINAL-URL:https://ketteringlocalpulse.co.uk
X-WR-CALDESC:Events for Kettering Local Pulse
REFRESH-INTERVAL;VALUE=DURATION:PT1H
X-Robots-Tag:noindex
X-PUBLISHED-TTL:PT1H
BEGIN:VTIMEZONE
TZID:UTC
BEGIN:STANDARD
TZOFFSETFROM:+0000
TZOFFSETTO:+0000
TZNAME:UTC
DTSTART:20230101T000000
END:STANDARD
TZID:Europe/London
BEGIN:DAYLIGHT
TZOFFSETFROM:+0000
TZOFFSETTO:+0100
TZNAME:BST
DTSTART:20230326T010000
END:DAYLIGHT
BEGIN:STANDARD
TZOFFSETFROM:+0100
TZOFFSETTO:+0000
TZNAME:GMT
DTSTART:20231029T010000
END:STANDARD
END:VTIMEZONE
BEGIN:VEVENT
DTSTART;TZID=UTC:20230625T110000
DTEND;TZID=UTC:20230625T160000
DTSTAMP:20260420T020930
CREATED:20230621T102821Z
LAST-MODIFIED:20230621T124043Z
UID:35212-1687690800-1687708800@ketteringlocalpulse.co.uk
SUMMARY:Geddington Summer Fete
DESCRIPTION:
URL:https://ketteringlocalpulse.co.uk/event/geddington-summer-fete/
END:VEVENT
BEGIN:VEVENT
DTSTART;TZID=UTC:20230624T140000
DTEND;TZID=UTC:20230624T170000
DTSTAMP:20260420T020930
CREATED:20230621T090017Z
LAST-MODIFIED:20230621T090017Z
UID:35205-1687615200-1687626000@ketteringlocalpulse.co.uk
SUMMARY:Desborough Carnival
DESCRIPTION:
URL:https://ketteringlocalpulse.co.uk/event/desborough-carnival/
LOCATION:Desborough\, High Street\, Desborough\, Northamptonshire\, NN14 2NB\, United Kingdom
END:VEVENT
BEGIN:VEVENT
DTSTART;TZID=UTC:20230621T170000
DTEND;TZID=UTC:20230621T210000
DTSTAMP:20260420T020930
CREATED:20230621T095228Z
LAST-MODIFIED:20230621T102309Z
UID:35208-1687366800-1687381200@ketteringlocalpulse.co.uk
SUMMARY:Midsummer Market - Kettering
DESCRIPTION:
URL:https://ketteringlocalpulse.co.uk/event/midsummer-market-kettering/
LOCATION:Kettering Market Place\, Market Place\, Kettering\, Northamptonshire\, NN16 0AQ\, United Kingdom
END:VEVENT
BEGIN:VEVENT
DTSTART;VALUE=DATE:20230615
DTEND;VALUE=DATE:20230619
DTSTAMP:20260420T020930
CREATED:20230519T135412Z
LAST-MODIFIED:20230519T135615Z
UID:35139-1686787200-1687132799@ketteringlocalpulse.co.uk
SUMMARY:KRFC Beer & Music Festival 2023
DESCRIPTION:Over 100 Beers\, Lagers and Ciders. Spirit & Wine Bar. Festival Food. Live Music\, \nMajor fundraiser for Kettering Rugby Club and any surplus money will be re-invested to provide community rugby facilities at the club. \nSee Website or Social Media for Daily Times.
URL:https://ketteringlocalpulse.co.uk/event/krfc-beer-music-festival-2023/
LOCATION:Kettering Rugby Football Club\, Waverley Road\, Kettering\, Northamptonshire\, NN15 6NT\, United Kingdom
END:VEVENT
END:VCALENDAR